BEGIN:VCALENDAR
VERSION:2.0
PRODID:XXII Semana Cultural de S. Martinho do Bispo
X-WR-CALNAME:XXII Semana Cultural de S. Martinho do Bispo
X-WR-TIMEZONE:Europe/Lisbon
X-PUBLISHED-TTL:P1W
BEGIN:VTIMEZONE
TZID:Europe/Lisbon
X-LIC-LOCATION:Europe/Lisbon
END:VTIMEZONE
BEGIN:VEVENT
UID:69ea31421072a
DTSTART;VALUE=DATE:20260605
SEQUENCE:0
TRANSP:OPAQUE
DTEND;VALUE=DATE:20260606
SUMMARY:XXII Semana Cultural de S. Martinho do Bispo
CLASS:PUBLIC
DESCRIPTION:XXII Semana Cultural de S. Martinho do Bispo
X-MICROSOFT-CDO-ALLDAYEVENT:TRUE
DTSTAMP:20260423T144834Z
END:VEVENT
END:VCALENDAR